BEGIN:VCALENDAR
VERSION:2.0
PRODID:-//Department of Pediatrics - ECPv6.15.11//NONSGML v1.0//EN
CALSCALE:GREGORIAN
METHOD:PUBLISH
X-WR-CALNAME:Department of Pediatrics
X-ORIGINAL-URL:https://www.pediatrics.wisc.edu
X-WR-CALDESC:Events for Department of Pediatrics
REFRESH-INTERVAL;VALUE=DURATION:PT1H
X-Robots-Tag:noindex
X-PUBLISHED-TTL:PT1H
BEGIN:VTIMEZONE
TZID:America/Chicago
BEGIN:DAYLIGHT
TZOFFSETFROM:-0600
TZOFFSETTO:-0500
TZNAME:CDT
DTSTART:20180311T080000
END:DAYLIGHT
BEGIN:STANDARD
TZOFFSETFROM:-0500
TZOFFSETTO:-0600
TZNAME:CST
DTSTART:20181104T070000
END:STANDARD
BEGIN:DAYLIGHT
TZOFFSETFROM:-0600
TZOFFSETTO:-0500
TZNAME:CDT
DTSTART:20190310T080000
END:DAYLIGHT
BEGIN:STANDARD
TZOFFSETFROM:-0500
TZOFFSETTO:-0600
TZNAME:CST
DTSTART:20191103T070000
END:STANDARD
BEGIN:DAYLIGHT
TZOFFSETFROM:-0600
TZOFFSETTO:-0500
TZNAME:CDT
DTSTART:20200308T080000
END:DAYLIGHT
BEGIN:STANDARD
TZOFFSETFROM:-0500
TZOFFSETTO:-0600
TZNAME:CST
DTSTART:20201101T070000
END:STANDARD
END:VTIMEZONE
BEGIN:VEVENT
DTSTART;TZID=America/Chicago:20191210T000000
DTEND;TZID=America/Chicago:20191210T000000
DTSTAMP:20260420T003101
CREATED:20191210T165639Z
LAST-MODIFIED:20191210T165639Z
UID:10799-1575936000-1575936000@www.pediatrics.wisc.edu
SUMMARY:No Grand Rounds
DESCRIPTION:
URL:https://www.pediatrics.wisc.edu/event/no-grand-rounds/
END:VEVENT
BEGIN:VEVENT
DTSTART;TZID=America/Chicago:20191128T073000
DTEND;TZID=America/Chicago:20191128T083000
DTSTAMP:20260420T003101
CREATED:20191011T151120Z
LAST-MODIFIED:20191011T151120Z
UID:9939-1574926200-1574929800@www.pediatrics.wisc.edu
SUMMARY:No Pediatric Grand Rounds – Thanksgiving
DESCRIPTION:
URL:https://www.pediatrics.wisc.edu/event/no-pediatric-grand-rounds-thanksgiving/
CATEGORIES:Grand Rounds
END:VEVENT
BEGIN:VEVENT
DTSTART;TZID=America/Chicago:20191121T073000
DTEND;TZID=America/Chicago:20191121T083000
DTSTAMP:20260420T003101
CREATED:20191011T151042Z
LAST-MODIFIED:20191011T151042Z
UID:9937-1574321400-1574325000@www.pediatrics.wisc.edu
SUMMARY:Grand Rounds - Probiotics
DESCRIPTION:Joseph A. McBride\, MD\,\nAssistant Professor\, Infectious Disease\, UW SMPH \n  \nThis lecture will be streamed live at http://live.videos.med.wisc.edu/. \nPlease text the 6-letter code provided in the livestream lecture to 608-260-7097 for CME credit.
URL:https://www.pediatrics.wisc.edu/event/grand-rounds-probiotics/
LOCATION:1345 HSLC
CATEGORIES:Grand Rounds
ORGANIZER;CN="Mallory Zink":MAILTO:zink@surgery.wisc.edu
END:VEVENT
BEGIN:VEVENT
DTSTART;TZID=America/Chicago:20191114T073000
DTEND;TZID=America/Chicago:20191114T083000
DTSTAMP:20260420T003101
CREATED:20191011T150917Z
LAST-MODIFIED:20191011T152243Z
UID:9935-1573716600-1573720200@www.pediatrics.wisc.edu
SUMMARY:Grand Rounds - Hyperbilirubemia
DESCRIPTION:Dan Sklansky\, MD\nDaniel Skalansky\, MD\nAssociate Professor (CHS) – Pediatric Hospital Medicine\, UW SMPH \n  \nThis lecture will be streamed live at http://live.videos.med.wisc.edu/. \nPlease text the 6-letter code provided in the livestream lecture to 608-260-7097 for CME credit.
URL:https://www.pediatrics.wisc.edu/event/grand-rounds-tbd/
LOCATION:1345 HSLC
CATEGORIES:Grand Rounds
ORGANIZER;CN="Mallory Zink":MAILTO:zink@surgery.wisc.edu
END:VEVENT
BEGIN:VEVENT
DTSTART;TZID=America/Chicago:20191107T073000
DTEND;TZID=America/Chicago:20191107T083000
DTSTAMP:20260420T003101
CREATED:20191011T150701Z
LAST-MODIFIED:20191011T150813Z
UID:9930-1573111800-1573115400@www.pediatrics.wisc.edu
SUMMARY:Grand Rounds - Same Goal: New Tools.  The role of technology in pediatric diabetes care
DESCRIPTION:M. Tracy Bekx\, MD\nAssociate Professor\, UW SMPH – Pediatric Endocrinology\, UW SMPH \nBeth A. Van Den Langenberg\, APNP\, MS\nAdvanced Practice Nurse Practitioner for Pediatric Diabetes and Endocrinology\, UW Hospitals and Clinics \nWhitney N. Beaton\, MSN\, RN\, ACCNS-P\nClinical Nurse Specialist for Pediatric Diabetes\, UW Hospitals and Clinics \nElizabeth C. Bender Roe\, DNP\, APNP\nAdvanced Practice Nurse Practitioner for Pediatric Diabetes and Endocrinology\, UW Hospitals and Clinics \n  \nThis lecture will be streamed live at http://live.videos.med.wisc.edu/. \nPlease text the 6-letter code provided in the livestream lecture to 608-260-7097 for CME credit.
URL:https://www.pediatrics.wisc.edu/event/grand-rounds-same-goal-new-tools-the-role-of-technology-in-pediatric-diabetes-care/
LOCATION:1345 HSLC
CATEGORIES:Grand Rounds
ORGANIZER;CN="Mallory Zink":MAILTO:zink@surgery.wisc.edu
END:VEVENT
BEGIN:VEVENT
DTSTART;TZID=America/Chicago:20191031T073000
DTEND;TZID=America/Chicago:20191031T083000
DTSTAMP:20260420T003101
CREATED:20191011T150526Z
LAST-MODIFIED:20191011T150759Z
UID:9927-1572507000-1572510600@www.pediatrics.wisc.edu
SUMMARY:Grand Rounds - Epilepsy Management
DESCRIPTION:Andrew T. Knox\, MD\nAssistant Professor (CHS) – Pediatric Neurology\, UW SMPH \n  \nThis lecture will be streamed live at http://live.videos.med.wisc.edu/. \nPlease text the 6-letter code provided in the livestream lecture to 608-260-7097 for CME credit.
URL:https://www.pediatrics.wisc.edu/event/grand-rounds-epilepsy-management/
LOCATION:1345 HSLC
CATEGORIES:Grand Rounds
ORGANIZER;CN="Mallory Zink":MAILTO:zink@surgery.wisc.edu
END:VEVENT
BEGIN:VEVENT
DTSTART;TZID=America/Chicago:20191024T073000
DTEND;TZID=America/Chicago:20191024T083000
DTSTAMP:20260420T003101
CREATED:20190913T130124Z
LAST-MODIFIED:20190913T130239Z
UID:9451-1571902200-1571905800@www.pediatrics.wisc.edu
SUMMARY:Grand Rounds - Clearing the Hurdles to Care with the Center for Patient Partnerships
DESCRIPTION:Martha E. “Meg” Gaines\, JD\, LLM\nDirector\, Center for Patient Partnership (CPP); Distinguished Clinical Professor of Law\, UW Law School \nRebecca J. Gennerman-Schroeder\, MA\, LMFT\, LPC\nCenter for Patient Partnership (CPP) Advocacy Coordinator\, UW Law School \n  \nThis lecture will be streamed live at http://live.videos.med.wisc.edu/. \nPlease text the 6-letter code provided in the livestream lecture to 608-260-7097 for CME credit.
URL:https://www.pediatrics.wisc.edu/event/grand-rounds-clearing-the-hurdles-to-care-with-the-center-for-patient-partnerships/
LOCATION:1345 HSLC
CATEGORIES:Grand Rounds
ORGANIZER;CN="Dottie Winger":MAILTO:winger2@pediatrics.wisc.edu
END:VEVENT
BEGIN:VEVENT
DTSTART;TZID=America/Chicago:20191017T073000
DTEND;TZID=America/Chicago:20191017T083000
DTSTAMP:20260420T003101
CREATED:20190829T165400Z
LAST-MODIFIED:20190925T145454Z
UID:8930-1571297400-1571301000@www.pediatrics.wisc.edu
SUMMARY:Grand Rounds - Comprehending Incomprehension: Understanding Vaccine Hesitancy
DESCRIPTION:Speaker Information \nJames H. Conway\, MD \nProfessor and Fellowship Director\, Infectious Diseases\, UW SMPH \n  \n  \n  \nThis lecture will be streamed live at http://live.videos.med.wisc.edu/. \nPlease text the 6-letter code provided in the livestream lecture to 608-260-7097 for CME credit. \nAfter the session\, ALL attendees wishing to earn credit of any type will need to complete the brief assessment in the link delivered to your email after you texted in. ABP MOC Credit is available. This link is valid through the end of the year.
URL:https://www.pediatrics.wisc.edu/event/grand-rounds-vaccine-hesitancy/
LOCATION:1345 HSLC
CATEGORIES:Grand Rounds
ORGANIZER;CN="Dottie Winger":MAILTO:winger2@pediatrics.wisc.edu
END:VEVENT
BEGIN:VEVENT
DTSTART;TZID=America/Chicago:20191010T073000
DTEND;TZID=America/Chicago:20191010T203000
DTSTAMP:20260420T003101
CREATED:20190829T162639Z
LAST-MODIFIED:20191007T163350Z
UID:8928-1570692600-1570739400@www.pediatrics.wisc.edu
SUMMARY:No Grand Rounds This Week
DESCRIPTION:
URL:https://www.pediatrics.wisc.edu/event/no-grand-rounds-yom-kippur/
CATEGORIES:Grand Rounds
END:VEVENT
BEGIN:VEVENT
DTSTART;TZID=America/Chicago:20191003T073000
DTEND;TZID=America/Chicago:20191003T083000
DTSTAMP:20260420T003101
CREATED:20190730T170056Z
LAST-MODIFIED:20190808T161848Z
UID:8036-1570087800-1570091400@www.pediatrics.wisc.edu
SUMMARY:Grand Rounds - Newborn Screening for Congenital Hypothyroidism
DESCRIPTION:Speaker Information \nDinushan C. Kaluarachchi\, MD\, MBBS\, Neonatology\, UW SMPH
URL:https://www.pediatrics.wisc.edu/event/newborn-screening-for-congenital-hypothyroidism/
LOCATION:1345 HSLC
CATEGORIES:Grand Rounds
END:VEVENT
BEGIN:VEVENT
DTSTART;TZID=America/Chicago:20190919T073000
DTEND;TZID=America/Chicago:20190919T083000
DTSTAMP:20260420T003102
CREATED:20190730T165858Z
LAST-MODIFIED:20190912T185141Z
UID:8033-1568878200-1568881800@www.pediatrics.wisc.edu
SUMMARY:Grand Rounds - Building an Academic Voice for Community Advocacy: Lessons and Examples
DESCRIPTION:Speaker Information \nJean L. Raphael\, MD\, MPH\, Associate Professor\, Department of Pediatrics\, Section of Hematology-Oncology and Section of Academic General Pediatrics\, Baylor College of Medicine
URL:https://www.pediatrics.wisc.edu/event/advocacy/
LOCATION:1345 HSLC
CATEGORIES:Grand Rounds
END:VEVENT
BEGIN:VEVENT
DTSTART;TZID=America/Chicago:20190912T073000
DTEND;TZID=America/Chicago:20190912T083000
DTSTAMP:20260420T003102
CREATED:20190730T165452Z
LAST-MODIFIED:20190913T130714Z
UID:8030-1568273400-1568277000@www.pediatrics.wisc.edu
SUMMARY:Grand Rounds - Compassionate Care of Children Affected by Substance Use Disorder
DESCRIPTION:Speaker Information \nSreevalli Atluru\, MD\, Assistant Professor\, Family Medicine\, UW Health \n  \n  \n  \n  \nThis lecture will be streamed live at http://live.videos.med.wisc.edu/. \nPlease text the 6-letter code provided in the livestream lecture to 608-260-7097 for CME credit. \nAfter the session\, ALL attendees wishing to earn credit of any type will need to complete the brief assessment in the link delivered to your email after you texted in. ABP MOC Credit is available. This link is valid through the end of the year.
URL:https://www.pediatrics.wisc.edu/event/compassionate-care-of-children-affected-by-substance-use-disorder/
LOCATION:1345 HSLC
CATEGORIES:Grand Rounds
END:VEVENT
BEGIN:VEVENT
DTSTART;TZID=America/Chicago:20190905T073000
DTEND;TZID=America/Chicago:20190905T083000
DTSTAMP:20260420T003102
CREATED:20190823T151209Z
LAST-MODIFIED:20190823T151209Z
UID:8636-1567668600-1567672200@www.pediatrics.wisc.edu
SUMMARY:NO GRAND ROUNDS - Faculty Meeting
DESCRIPTION:
URL:https://www.pediatrics.wisc.edu/event/no-grand-rounds-faculty-meeting/
ORGANIZER;CN="Gena Hughes":MAILTO:gthughes@pediatrics.wisc.edu
END:VEVENT
BEGIN:VEVENT
DTSTART;TZID=America/Chicago:20190829T073000
DTEND;TZID=America/Chicago:20190829T083000
DTSTAMP:20260420T003102
CREATED:20190730T165023Z
LAST-MODIFIED:20190913T131000Z
UID:8027-1567063800-1567067400@www.pediatrics.wisc.edu
SUMMARY:Grand Rounds - Abuse or Accident? Evidence to Aid in the Differentiation
DESCRIPTION:Speaker Information \nMary Clyde Pierce\, MD\, Attending Physician\, Pediatric Emergency Medicine and Child Protection\, Lurie Children’s Hospital of Chicago \n  \n  \n  \n  \n  \n  \nThis lecture will be streamed live at http://live.videos.med.wisc.edu/. \nPlease text the 6-letter code provided in the livestream lecture to 608-260-7097 for CME credit. \nAfter the session\, ALL attendees wishing to earn credit of any type will need to complete the brief assessment in the link delivered to your email after you texted in. ABP MOC Credit is available. This link is valid through the end of the year.
URL:https://www.pediatrics.wisc.edu/event/child-abuse/
LOCATION:1345 HSLC
CATEGORIES:Grand Rounds
ORGANIZER;CN="Dottie Winger":MAILTO:winger2@pediatrics.wisc.edu
END:VEVENT
BEGIN:VEVENT
DTSTART;TZID=America/Chicago:20190822T073000
DTEND;TZID=America/Chicago:20190822T083000
DTSTAMP:20260420T003102
CREATED:20190730T164725Z
LAST-MODIFIED:20190808T161723Z
UID:8025-1566459000-1566462600@www.pediatrics.wisc.edu
SUMMARY:Grand Rounds - Early Life Influences on Allergic Diseases and Asthma
DESCRIPTION:Speaker Information \nJames E. Gern\, MD\, Division Chief\, Pediatric Allergy\, Immunology & Rheumatology\, UW SMPH \nAnne Marie Singh\, MD\, Associate Professor\, Pediatric Allergy\, Immunology & Rheumatology\, UW SMPH
URL:https://www.pediatrics.wisc.edu/event/early-life-influences-on-allergic-diseases-and-asthma/
LOCATION:1345 HSLC
CATEGORIES:Grand Rounds
END:VEVENT
BEGIN:VEVENT
DTSTART;TZID=America/Chicago:20190815T073000
DTEND;TZID=America/Chicago:20190815T083000
DTSTAMP:20260420T003102
CREATED:20190730T164516Z
LAST-MODIFIED:20190808T161624Z
UID:8023-1565854200-1565857800@www.pediatrics.wisc.edu
SUMMARY:Grand Rounds - Be Aware\, Be PrEPared: Steps to Ending the US HIV Epidemic
DESCRIPTION:Sheryl L. Henderson\, MD\, PhD\, Assistant Professor\, Division of Pediatric Infectious Diseases\, UW SMPH \nPaula J. Cody\, MD\, MPH\, Assistant Professor\, Medical Director and Section Head of Adolescent Medicine\, UW SMPH \nShannon Ruth-Leigh\, MA\, Patient Navigator \, HIV Prevention\, Medical Specialties Clinic\, UW-Health
URL:https://www.pediatrics.wisc.edu/event/hiv-pre-exposure-prophylaxis-prep-in-pediatric-population/
LOCATION:1345 HSLC
CATEGORIES:Grand Rounds
END:VEVENT
BEGIN:VEVENT
DTSTART;TZID=America/Chicago:20190808T073000
DTEND;TZID=America/Chicago:20190808T083000
DTSTAMP:20260420T003102
CREATED:20190730T164250Z
LAST-MODIFIED:20190823T150809Z
UID:8019-1565249400-1565253000@www.pediatrics.wisc.edu
SUMMARY:Grand Rounds - Why Jack is More Likely to Become Department Chair than Jill
DESCRIPTION:Speaker Information \nMary (Molly) L. Carnes\, MD\, MS\, Professor\, Geriatrics and Adult Development\, UW SMPH
URL:https://www.pediatrics.wisc.edu/event/why-jack-is-more-likely-to-become-department-chair-than-jill/
LOCATION:1345 HSLC
CATEGORIES:Grand Rounds
END:VEVENT
BEGIN:VEVENT
DTSTART;TZID=America/Chicago:20190801T073000
DTEND;TZID=America/Chicago:20190801T083000
DTSTAMP:20260420T003102
CREATED:20190730T163952Z
LAST-MODIFIED:20190808T161708Z
UID:8017-1564644600-1564648200@www.pediatrics.wisc.edu
SUMMARY:Grand Rounds - Pediatric Advocacy: Why do we CARE?
DESCRIPTION:Speaker Information \nNatalie J. Tedford\, MD\, PL3 Resident\, UW-Health \nAllison N. Heizelman\, MD\, PL3 Resident\, UW-Health \nSarah E. Mackay\, MHS\, MD\, PL3 Resident\, UW-Health \nNicholas W. Beam\, MD\, PL2 Resident\, UW-Health \nMala Mathur\, MD\, MPH\, Clinical Associate Professor\, General Pediatrics & Adolescent Medicine\, UW SMPH \nLaura M. Houser\, MD\, Clinical Associate Professor\, General Pediatrics & Adolescent Medicine\, UW SMPH
URL:https://www.pediatrics.wisc.edu/event/pediatric-advocacy-why-do-we-care/
LOCATION:1345 HSLC
CATEGORIES:Grand Rounds
END:VEVENT
BEGIN:VEVENT
DTSTART;TZID=America/Chicago:20190725T073000
DTEND;TZID=America/Chicago:20190725T083000
DTSTAMP:20260420T003102
CREATED:20190716T145726Z
LAST-MODIFIED:20190716T145726Z
UID:6564-1564039800-1564043400@www.pediatrics.wisc.edu
SUMMARY:Grand Rounds - Improved Medicare-For-All:  America's Best Option?
DESCRIPTION:Joseph Eichenseher\, MD\, Clinical Assistant Professor – Family Medicine\, UW School of Medicine and Public Health \nMelissa Stiles\, MD\, Professor (CHS) – Family Medicine\, UW School of Medicine and Public Health
URL:https://www.pediatrics.wisc.edu/event/grand-rounds-improved-medicare-for-all-americas-best-option/
LOCATION:1345 HSLC
CATEGORIES:Grand Rounds
END:VEVENT
BEGIN:VEVENT
DTSTART;TZID=America/Chicago:20190718T073000
DTEND;TZID=America/Chicago:20190718T083000
DTSTAMP:20260420T003102
CREATED:20190716T145428Z
LAST-MODIFIED:20190913T125532Z
UID:6562-1563435000-1563438600@www.pediatrics.wisc.edu
SUMMARY:Grand Rounds - Redefining Syndromes in the Era of Exomes
DESCRIPTION:Nelly Pitteloud\, MD \nCentre Hospitalier Universitaire Vaudois (CHUV)\, Endocrinology\, Diabetes\, and Metabolism Service
URL:https://www.pediatrics.wisc.edu/event/grand-rounds-tba/
LOCATION:1345 HSLC
CATEGORIES:Grand Rounds
END:VEVENT
BEGIN:VEVENT
DTSTART;TZID=America/Chicago:20190711T073000
DTEND;TZID=America/Chicago:20190711T083000
DTSTAMP:20260420T003102
CREATED:20190716T145237Z
LAST-MODIFIED:20190716T145334Z
UID:6559-1562830200-1562833800@www.pediatrics.wisc.edu
SUMMARY:Grand Rounds - The Hermit\, the Mongol\, the Swimmer\, Bucky and the Dwarfs: Cases that Changed Me/Us
DESCRIPTION:Norm Fost\, MD\, MPH\nNorman C. Fost\, MD\, MPH \nProfessor Emeritus\, Child Abuse & Bioethics\, UW School of Medicine and Public Health
URL:https://www.pediatrics.wisc.edu/event/the-hermit-the-mongol-the-swimmer-bucky-and-the-dwarfs-cases-that-changed-me-us/
LOCATION:1345 HSLC
CATEGORIES:Grand Rounds
END:VEVENT
BEGIN:VEVENT
DTSTART;TZID=America/Chicago:20190627T073000
DTEND;TZID=America/Chicago:20190627T083000
DTSTAMP:20260420T003102
CREATED:20190605T152628Z
LAST-MODIFIED:20190605T152628Z
UID:4200-1561620600-1561624200@www.pediatrics.wisc.edu
SUMMARY:Grand Rounds - Solutions to the Shifting Landscape of Teenage JUULing and Parental Smoking in Wisconsin  #CEASEWI
DESCRIPTION:Jonathan Philip Winickoff\, MD\, MPH\, Director of Pediatric Research\, Tobacco Research and Treatment Center\, Professor\, Harvard Medical School \nThis American Academy of Pediatrics (AAP) Julius B. Richmond Center of Excellence Visiting Lectureship is funded by the Flight Attendant Medical Research Institute.
URL:https://www.pediatrics.wisc.edu/event/grand-rounds-solutions-to-the-shifting-landscape-of-teenage-juuling-and-parental-smoking-in-wisconsin-ceasewi/
LOCATION:1345 HSLC
CATEGORIES:Grand Rounds
END:VEVENT
BEGIN:VEVENT
DTSTART;TZID=America/Chicago:20190620T073000
DTEND;TZID=America/Chicago:20190620T083000
DTSTAMP:20260420T003102
CREATED:20190605T152520Z
LAST-MODIFIED:20190605T152520Z
UID:4198-1561015800-1561019400@www.pediatrics.wisc.edu
SUMMARY:Grand Rounds - PEDSnet: A National Pediatric Learning Health System
DESCRIPTION:Christopher B. Forrest\, MD\, PhD\, Professor of Pediatrics and Health Care Management\, Children’s Hospital of Philadelphia (CHOP) and the University of Pennsylvania
URL:https://www.pediatrics.wisc.edu/event/grand-rounds-pedsnet-a-national-pediatric-learning-health-system/
LOCATION:1345 HSLC
CATEGORIES:Grand Rounds
END:VEVENT
BEGIN:VEVENT
DTSTART;TZID=America/Chicago:20190613T073000
DTEND;TZID=America/Chicago:20190613T083000
DTSTAMP:20260420T003102
CREATED:20190605T152400Z
LAST-MODIFIED:20190607T172434Z
UID:4196-1560411000-1560414600@www.pediatrics.wisc.edu
SUMMARY:Grand Rounds - Transcutaneous Carbon Dioxide Monitoring in Post Operative Congenital Heart Disease Patients
DESCRIPTION:Tarun Malkani\, MD\, Critical Care Fellow\, UW-Madison School of Medicine and Public Health
URL:https://www.pediatrics.wisc.edu/event/grand-rounds-non-invasive-respiratory-monitoring-in-post-operative-congenital-heart-disease-patients/
LOCATION:1345 HSLC
CATEGORIES:Grand Rounds
END:VEVENT
BEGIN:VEVENT
DTSTART;TZID=America/Chicago:20190606T073000
DTEND;TZID=America/Chicago:20190606T083000
DTSTAMP:20260420T003102
CREATED:20190605T152240Z
LAST-MODIFIED:20190605T152255Z
UID:4194-1559806200-1559809800@www.pediatrics.wisc.edu
SUMMARY:Grand Rounds - Senior Resident Global Health Experiences
DESCRIPTION:Alexandra A. Erdmann\, MD\, PL3 Resident\, American Family Children’s Hospital \nKristen A. Marten\, DO\, PL3 Resident\, American Family Children’s Hospital \nAnisha A. Rimal\, MD\, PL3 Resident\, American Family Children’s Hospital \nNatalie J. Tedford\, MD\, PL2 Resident\, American Family Children’s Hospital \nSabrina M. Butteris\, MD\, Associate Professor\, Pediatric Hospital Medicine\, UW-Madison School of Medicine and Public Health
URL:https://www.pediatrics.wisc.edu/event/grand-rounds-senior-resident-global-health-experiences/
LOCATION:1345 HSLC
CATEGORIES:Grand Rounds
END:VEVENT
BEGIN:VEVENT
DTSTART;TZID=America/Chicago:20190528T080000
DTEND;TZID=America/Chicago:20190531T170000
DTSTAMP:20260420T003102
CREATED:20190515T190254Z
LAST-MODIFIED:20190515T190426Z
UID:3471-1559030400-1559322000@www.pediatrics.wisc.edu
SUMMARY:Research Week 2019
DESCRIPTION:Tuesday\, May 28\, 2019 in 1335 AFCH.  Faculty and Fellows are welcome. \n8-9 AM – Panel discussion: Taking a Scholarly Approach to Quality Improvement. \nWednesday\, May 29\, 2019 in 1335 AFCH.  Faculty and Fellows are welcome. \n8-9 AM – Ethical Considerations in Pediatric Research \nNorman Fost\, MD\, – Professor Emeritus\, Pediatrics and Bioethics \nThursday. May 30\, 2019 in HSLC 1345: \n7:30AM – Pediatrics Grand Rounds – “Clinical and Basic Research Advances for Congenital Diaphragmatic Hernia” * \nDavid J. McCulley\, MD – Neonatology & Newborn Nursery \n8:45AM – Departmental Research Resources for Faculty\, Fellows and Residents \nKim Stevenson\, Business Services Administration-Research \nFriday\, May 31\, 2019 in HSLC 1325 and atrium: \n12:00-12:30 PM – Lunch \n12:30-1:00 PM –Keynote – Unlocking the Physician-Scientist-Educator-Advocate Within \nChristian M. Capitini\, MD – Pediatric Hematology/Oncology \n1:00-2:30 PM – Oral Presentations \n2:30-5:00 PM – Poster Reception (with light hors d’oeuvres) in HSLC Atrium
URL:https://www.pediatrics.wisc.edu/event/research-week-2019/
LOCATION:AFCH
END:VEVENT
BEGIN:VEVENT
DTSTART;TZID=America/Chicago:20190523T073000
DTEND;TZID=America/Chicago:20190523T083000
DTSTAMP:20260420T003102
CREATED:20190516T183638Z
LAST-MODIFIED:20190516T183735Z
UID:3491-1558596600-1558600200@www.pediatrics.wisc.edu
SUMMARY:Grand Rounds - Battle of Sex Hormones and Childhood Obesity
DESCRIPTION:Watch live \nSpeaker Information \nYashoda Naik\, MD\, Assistant Professor\, Neonatology\, UW-Madison School of Medicine and Public Health
URL:https://www.pediatrics.wisc.edu/event/grand-rounds-battle-of-sex-hormones-and-childhood-obesity/
LOCATION:1345 HSLC
CATEGORIES:Grand Rounds
END:VEVENT
BEGIN:VEVENT
DTSTART;TZID=America/Chicago:20190518T120000
DTEND;TZID=America/Chicago:20190518T130000
DTSTAMP:20260420T003102
CREATED:20190514T183557Z
LAST-MODIFIED:20190514T184722Z
UID:3364-1558180800-1558184400@www.pediatrics.wisc.edu
SUMMARY:Schwartz Center Rounds - Mommy Dearest?
DESCRIPTION:Panel Presenters:  Brita Kipper\, RN; Heather Schoenfeld\, CCLS; Emily Schweigert\, PhD; Alida Yee\, NP. \nWe praise and admire parents and families who present as bright\, educated and up to date with their child’s illness. Sometimes the more we get to know families\, things don’t quite add up… something doesn’t seem quite right.  Our panel will talk about the strong emotions that this can evoke as well as professional experiences with factitious disorder and how that can impact us personally\, professional and leave us feeling unsettled.
URL:https://www.pediatrics.wisc.edu/event/schwartz-center-rounds-mommy-dearest/
LOCATION:1335 AFCH
CATEGORIES:Schwartz Center Rounds
END:VEVENT
BEGIN:VEVENT
DTSTART;TZID=America/Chicago:20190516T073000
DTEND;TZID=America/Chicago:20190516T083000
DTSTAMP:20260420T003102
CREATED:20190514T182311Z
LAST-MODIFIED:20190514T184714Z
UID:3358-1557991800-1557995400@www.pediatrics.wisc.edu
SUMMARY:Grand Rounds - Is there a Doctor in the House?
DESCRIPTION:Speaker Information\n\nNicholas A. Kuehnel\, MD\, Assistant Professor\, Emergency Medicine\, UW-Madison School of Medicine And Public Health; \nJames E. Svenson\, MD\, MS\, Associate Professor\, Emergency Medicine\, UW-Madison School of Medicine And Public Health; \nDavid T. Bernhardt\, MD Professor\, General Pediatrics & Adolescent Medicine\, Sports Medicine\, Pediatric Sports Medicine\, Fellowship Director\, Primary Care Sports Medicine\, UW-Madison School of Medicine And Public Health
URL:https://www.pediatrics.wisc.edu/event/is-there-a-doctor-in-the-house/
LOCATION:1345 HSLC
CATEGORIES:Grand Rounds
END:VEVENT
BEGIN:VEVENT
DTSTART;TZID=America/Chicago:20190509T073000
DTEND;TZID=America/Chicago:20190509T083000
DTSTAMP:20260420T003102
CREATED:20190514T185104Z
LAST-MODIFIED:20190514T185104Z
UID:3370-1557387000-1557390600@www.pediatrics.wisc.edu
SUMMARY:Grand Rounds - Retinopathy of Prematurity: Exploring the Unknown
DESCRIPTION:Speaker Information \n \nClaudette N. Adegboro\, MD\, Neonatology & Newborn Nursery – Fellow\, American Family Children’s Hospital\, Madison\, WI
URL:https://www.pediatrics.wisc.edu/event/grand-rounds-retinopathy-of-prematurity-exploring-the-unknown/
LOCATION:1345 HSLC
CATEGORIES:Grand Rounds
END:VEVENT
END:VCALENDAR