BEGIN:VCALENDAR
VERSION:2.0
PRODID:-//Department of Pediatrics - ECPv6.15.11//NONSGML v1.0//EN
CALSCALE:GREGORIAN
METHOD:PUBLISH
X-WR-CALNAME:Department of Pediatrics
X-ORIGINAL-URL:https://www.pediatrics.wisc.edu
X-WR-CALDESC:Events for Department of Pediatrics
REFRESH-INTERVAL;VALUE=DURATION:PT1H
X-Robots-Tag:noindex
X-PUBLISHED-TTL:PT1H
BEGIN:VTIMEZONE
TZID:America/Chicago
BEGIN:DAYLIGHT
TZOFFSETFROM:-0600
TZOFFSETTO:-0500
TZNAME:CDT
DTSTART:20190310T080000
END:DAYLIGHT
BEGIN:STANDARD
TZOFFSETFROM:-0500
TZOFFSETTO:-0600
TZNAME:CST
DTSTART:20191103T070000
END:STANDARD
BEGIN:DAYLIGHT
TZOFFSETFROM:-0600
TZOFFSETTO:-0500
TZNAME:CDT
DTSTART:20200308T080000
END:DAYLIGHT
BEGIN:STANDARD
TZOFFSETFROM:-0500
TZOFFSETTO:-0600
TZNAME:CST
DTSTART:20201101T070000
END:STANDARD
BEGIN:DAYLIGHT
TZOFFSETFROM:-0600
TZOFFSETTO:-0500
TZNAME:CDT
DTSTART:20210314T080000
END:DAYLIGHT
BEGIN:STANDARD
TZOFFSETFROM:-0500
TZOFFSETTO:-0600
TZNAME:CST
DTSTART:20211107T070000
END:STANDARD
BEGIN:DAYLIGHT
TZOFFSETFROM:-0600
TZOFFSETTO:-0500
TZNAME:CDT
DTSTART:20220313T080000
END:DAYLIGHT
BEGIN:STANDARD
TZOFFSETFROM:-0500
TZOFFSETTO:-0600
TZNAME:CST
DTSTART:20221106T070000
END:STANDARD
END:VTIMEZONE
BEGIN:VEVENT
DTSTART;TZID=America/Chicago:20210304T073000
DTEND;TZID=America/Chicago:20210304T083000
DTSTAMP:20260419T171951
CREATED:20201106T170411Z
LAST-MODIFIED:20210209T183138Z
UID:15954-1614843000-1614846600@www.pediatrics.wisc.edu
SUMMARY:Pediatric Grand Rounds\, Kathryn Schmit\, MD - "Validation in Medicine: Why It Matters"
DESCRIPTION:Kathryn Schmit\, MD – PGY 6 Fellow\, Infectious Diseases\, UW SMPH \n \n  \n  \n  \n  \n  \n  \nThis lecture will be streamed live at https://go.wisc.edu/pedsgrandrounds  \nPlease text the 6-letter code provided in the livestream lecture to 608-260-7097 for CME credit.
URL:https://www.pediatrics.wisc.edu/event/pediatric-grand-rounds-kathryn-schmit-md/
LOCATION:Via Blackboard Connect
CATEGORIES:Grand Rounds
END:VEVENT
BEGIN:VEVENT
DTSTART;TZID=America/Chicago:20210225T073000
DTEND;TZID=America/Chicago:20210225T083000
DTSTAMP:20260419T171951
CREATED:20201106T170203Z
LAST-MODIFIED:20210202T191650Z
UID:15952-1614238200-1614241800@www.pediatrics.wisc.edu
SUMMARY:Pediatric Grand Rounds\, Mallery Olsen\, MD - Advances in Immunotherapies for Canine and Pediatric Osteosarcoma
DESCRIPTION:Mallery Olsen\, MD – PGY 6 Fellow\, Hematology\, Oncology and Bone Marrow Transplant\, Capitini Research Group\, UW SMPH \n \n  \n  \n  \n  \n  \n  \nThis lecture will be streamed live at https://go.wisc.edu/pedsgrandrounds  \nPlease text the 6-letter code provided in the livestream lecture to 608-260-7097 for CME credit.
URL:https://www.pediatrics.wisc.edu/event/pediatric-grand-rounds-mallery-olsen-md/
LOCATION:Via Blackboard Connect
CATEGORIES:Grand Rounds
END:VEVENT
BEGIN:VEVENT
DTSTART;TZID=America/Chicago:20210218T073000
DTEND;TZID=America/Chicago:20210218T083000
DTSTAMP:20260419T171951
CREATED:20201106T165927Z
LAST-MODIFIED:20210210T143246Z
UID:15950-1613633400-1613637000@www.pediatrics.wisc.edu
SUMMARY:Pediatric Grand Rounds\, Sarah MacKay\, MD - "Cholestasis\, Coagulopathy and a Conundrum: A Clinical Pathology Conference"
DESCRIPTION:Sarah MacKay\, MD – Chief Resident\, UW SMPH \n \n  \n  \n  \n  \n  \n  \nThis lecture will be streamed live at https://go.wisc.edu/pedsgrandrounds  \nPlease text the 6-letter code provided in the livestream lecture to 608-260-7097 for CME credit.
URL:https://www.pediatrics.wisc.edu/event/pediatric-grand-rounds-sarah-mackay-md-clinical-pathology-conference/
LOCATION:Via Blackboard Connect
CATEGORIES:Grand Rounds
END:VEVENT
BEGIN:VEVENT
DTSTART;TZID=America/Chicago:20210211T073000
DTEND;TZID=America/Chicago:20210211T083000
DTSTAMP:20260419T171951
CREATED:20210111T190258Z
LAST-MODIFIED:20210111T190258Z
UID:16264-1613028600-1613032200@www.pediatrics.wisc.edu
SUMMARY:Pediatric Grand Rounds\, Perri Klass\, MD - Living to Grow Up: how childhood death became "unnatural" -*ABP MOC PART 2
DESCRIPTION:Perri Klass\, MD – Professor of Journalism and Pediatrics\, New our University. Co-Director\, NYU Florence. \n \n  \n  \n  \n  \n  \n  \n  \n  \nThis lecture will be streamed live at https://go.wisc.edu/pedsgrandrounds  \nPlease text the 6-letter code provided in the livestream lecture to 608-260-7097 for CME credit.
URL:https://www.pediatrics.wisc.edu/event/pediatric-grand-rounds-perri-klass-md-living-to-grow-up-how-childhood-death-became-unnatural-abp-moc-part-2/
LOCATION:Via Blackboard Connect
CATEGORIES:Grand Rounds
END:VEVENT
BEGIN:VEVENT
DTSTART;TZID=America/Chicago:20210204T073000
DTEND;TZID=America/Chicago:20210204T083000
DTSTAMP:20260419T171951
CREATED:20201106T163059Z
LAST-MODIFIED:20210127T181317Z
UID:15944-1612423800-1612427400@www.pediatrics.wisc.edu
SUMMARY:Pediatric Grand Rounds\, Kenneth Noonan\, MD - "Life (and Limb) on the Farm"
DESCRIPTION:Kenneth Noonan\, MD – Faculty\, Orthopedics\, Department of Orthopedics and Rehabilitation\, UW SMPH \n \n  \n  \n  \n  \n  \n  \nThis lecture will be streamed live at https://go.wisc.edu/pedsgrandrounds  \nPlease text the 6-letter code provided in the livestream lecture to 608-260-7097 for CME credit.
URL:https://www.pediatrics.wisc.edu/event/pediatric-grand-rounds-kenneth-noonan-md-lawnmower-safety/
LOCATION:Via Blackboard Connect
CATEGORIES:Grand Rounds
END:VEVENT
BEGIN:VEVENT
DTSTART;TZID=America/Chicago:20210128T073000
DTEND;TZID=America/Chicago:20210128T083000
DTSTAMP:20260419T171951
CREATED:20201106T162436Z
LAST-MODIFIED:20210119T162327Z
UID:15942-1611819000-1611822600@www.pediatrics.wisc.edu
SUMMARY:Pediatric Grand Rounds\, Nikki Kamps\, MD - "Steroids for Sepsis...Panacea or Poison?"
DESCRIPTION:Nikki Kamps\, MD – PGY 6 Fellow\, Critical Care\, UW SMPH \n \n  \n  \n  \n  \n  \n  \nThis lecture will be streamed live at https://go.wisc.edu/pedsgrandrounds  \nPlease text the 6-letter code provided in the livestream lecture to 608-260-7097 for CME credit.
URL:https://www.pediatrics.wisc.edu/event/pediatric-grand-rounds-nikki-kamps-md/
LOCATION:Via Blackboard Connect
CATEGORIES:Grand Rounds
END:VEVENT
BEGIN:VEVENT
DTSTART;TZID=America/Chicago:20210121T073000
DTEND;TZID=America/Chicago:20210121T080000
DTSTAMP:20260419T171951
CREATED:20201106T162153Z
LAST-MODIFIED:20201106T162206Z
UID:15939-1611214200-1611216000@www.pediatrics.wisc.edu
SUMMARY:Pediatric Grand Rounds\, Brandon Tomlin\, MD - "Clinical Pathology Conference"
DESCRIPTION:Brandon Tomlin\, MD – Chief Resident\, UW SMPH \n \nThis lecture will be streamed live at https://go.wisc.edu/pedsgrandrounds  \nPlease text the 6-letter code provided in the livestream lecture to 608-260-7097 for CME credit.
URL:https://www.pediatrics.wisc.edu/event/pediatric-grand-rounds-brandon-tomlin-md-clinical-pathology-conference/
LOCATION:Via Blackboard Connect
CATEGORIES:Grand Rounds
END:VEVENT
BEGIN:VEVENT
DTSTART;TZID=America/Chicago:20210114T073000
DTEND;TZID=America/Chicago:20210114T083000
DTSTAMP:20260419T171951
CREATED:20201125T154603Z
LAST-MODIFIED:20210111T185656Z
UID:16112-1610609400-1610613000@www.pediatrics.wisc.edu
SUMMARY:Pediatric Grand Rounds\, Kimberly Wolf\, DO - "Healing with our Hands: An Osteopathic Approach to Pediatrics"
DESCRIPTION:Kimberly Wolf\, DO – Vice Chair of Osteopathic Manipulative Medicine\, Associate Professor of Osteopathic Manipulative Medicine and Director of Pediatric Osteopathic Manipulative Medicine\, Touro University College of Osteopathic Medicine. \n \n  \n  \n  \n  \n  \n  \n  \n  \nThis lecture will be streamed live at https://go.wisc.edu/pedsgrandrounds  \nPlease text the 6-letter code provided in the livestream lecture to 608-260-7097 for CME credit.
URL:https://www.pediatrics.wisc.edu/event/pediatric-grand-rounds-kimberly-wolf-do/
LOCATION:Via Blackboard Connect
CATEGORIES:Grand Rounds
END:VEVENT
BEGIN:VEVENT
DTSTART;TZID=America/Chicago:20210107T073000
DTEND;TZID=America/Chicago:20210107T083000
DTSTAMP:20260419T171951
CREATED:20201001T172547Z
LAST-MODIFIED:20201001T172547Z
UID:15648-1610004600-1610008200@www.pediatrics.wisc.edu
SUMMARY:No Pediatric Grand Round
DESCRIPTION:No Pediatric Grand Round
URL:https://www.pediatrics.wisc.edu/event/no-pediatric-grand-round-4/
CATEGORIES:Grand Rounds
END:VEVENT
BEGIN:VEVENT
DTSTART;TZID=America/Chicago:20201231T073000
DTEND;TZID=America/Chicago:20201231T083000
DTSTAMP:20260419T171951
CREATED:20201001T172522Z
LAST-MODIFIED:20201001T172522Z
UID:15646-1609399800-1609403400@www.pediatrics.wisc.edu
SUMMARY:No Pediatric Grand Round
DESCRIPTION:No Pediatric Grand Round
URL:https://www.pediatrics.wisc.edu/event/no-pediatric-grand-round-3/
LOCATION:Via Blackboard Connect
CATEGORIES:Grand Rounds
END:VEVENT
BEGIN:VEVENT
DTSTART;TZID=America/Chicago:20201224T073000
DTEND;TZID=America/Chicago:20201224T083000
DTSTAMP:20260419T171951
CREATED:20201001T172450Z
LAST-MODIFIED:20201001T172558Z
UID:15644-1608795000-1608798600@www.pediatrics.wisc.edu
SUMMARY:No Pediatric Grand Round
DESCRIPTION:No Pediatric Grand Round
URL:https://www.pediatrics.wisc.edu/event/no-pediatric-grand-round-2/
CATEGORIES:Grand Rounds
END:VEVENT
BEGIN:VEVENT
DTSTART;TZID=America/Chicago:20201217T073000
DTEND;TZID=America/Chicago:20201217T083000
DTSTAMP:20260419T171951
CREATED:20201001T172423Z
LAST-MODIFIED:20201001T172423Z
UID:15640-1608190200-1608193800@www.pediatrics.wisc.edu
SUMMARY:Pediatric Grand Rounds\, Erik Imel\, MD
DESCRIPTION:Erik Imel\, MD – Associate Professor of Medicine and Pediatrics\, Indiana University School of Medicine\, Indiana Center for Musculoskeletal Health \n \n  \n  \n  \n  \n  \n  \nThis lecture will be streamed live at https://go.wisc.edu/pedsgrandrounds  \nPlease text the 6-letter code provided in the livestream lecture to 608-260-7097 for CME credit.
URL:https://www.pediatrics.wisc.edu/event/pediatric-grand-rounds-erik-imel-md/
LOCATION:Via Blackboard Connect
CATEGORIES:Grand Rounds
END:VEVENT
BEGIN:VEVENT
DTSTART;TZID=America/Chicago:20201210T073000
DTEND;TZID=America/Chicago:20201210T083000
DTSTAMP:20260419T171951
CREATED:20201001T172200Z
LAST-MODIFIED:20201001T172233Z
UID:15637-1607585400-1607589000@www.pediatrics.wisc.edu
SUMMARY:Pediatric Grand Rounds\, Scott Hagen\, MD
DESCRIPTION:Scott Hagen\, MD – Associate Professor\, Critical Care\, Department of Pediatrics\, UW SMPH \n \nThis lecture will be streamed live at https://go.wisc.edu/pedsgrandrounds  \nPlease text the 6-letter code provided in the livestream lecture to 608-260-7097 for CME credit.
URL:https://www.pediatrics.wisc.edu/event/pediatric-grand-rounds-scott-hagen-md/
LOCATION:Via Blackboard Connect
CATEGORIES:Grand Rounds
END:VEVENT
BEGIN:VEVENT
DTSTART;TZID=America/Chicago:20201203T073000
DTEND;TZID=America/Chicago:20201203T083000
DTSTAMP:20260419T171951
CREATED:20201001T171500Z
LAST-MODIFIED:20201001T171500Z
UID:15634-1606980600-1606984200@www.pediatrics.wisc.edu
SUMMARY:Pediatric Grand Rounds\, Scott Leibowitz\, MD - "Today's Genderation of Youth: Ethical Considerations Across Child and Adolescent Development" – *ABP MOC Part 2
DESCRIPTION:Scott Leibowitz\, MD – Child and Adolescent Psychiatrist\, Nationwide Children’s Hospital\, Columbus\, OH\, Medical Director of Behavioral Health\, THRIVE (gender and sex development) program\, Associate Clinical Professor\, The Ohio State University College of Medicine. \n \n  \n  \n  \n  \n  \n  \n  \nThis lecture will be streamed live at https://go.wisc.edu/pedsgrandrounds  \nPlease text the 6-letter code provided in the livestream lecture to 608-260-7097 for CME credit.
URL:https://www.pediatrics.wisc.edu/event/pediatric-grand-rounds-scott-leibowitz-md-todays-genderation-of-youth-ethical-considerations-across-child-and-adolescent-development-abp-moc-part-2/
LOCATION:Via Blackboard Connect
CATEGORIES:Grand Rounds
END:VEVENT
BEGIN:VEVENT
DTSTART;TZID=America/Chicago:20201126T073000
DTEND;TZID=America/Chicago:20201126T083000
DTSTAMP:20260419T171951
CREATED:20201001T171251Z
LAST-MODIFIED:20201001T171251Z
UID:15632-1606375800-1606379400@www.pediatrics.wisc.edu
SUMMARY:No Pediatric Grand Rounds
DESCRIPTION:No Pediatric Grand Rounds
URL:https://www.pediatrics.wisc.edu/event/no-pediatric-grand-rounds-4/
LOCATION:Via Blackboard Connect
CATEGORIES:Grand Rounds
END:VEVENT
BEGIN:VEVENT
DTSTART;TZID=America/Chicago:20201119T073000
DTEND;TZID=America/Chicago:20201119T083000
DTSTAMP:20260419T171951
CREATED:20201001T171207Z
LAST-MODIFIED:20201001T171207Z
UID:15629-1605771000-1605774600@www.pediatrics.wisc.edu
SUMMARY:Pediatric Grand Rounds\, Shanda Wells\, PhD - "Trauma-Informed Care – Pediatrics Behavioral Health" *ABP MOC Part 2!
DESCRIPTION:Shanda Wells\, PhD – Faculty\, Pediatric Behavioral Health\, UW SMPH \n \n  \n  \n  \n  \n  \n  \nThis lecture will be streamed live at https://go.wisc.edu/pedsgrandrounds  \nPlease text the 6-letter code provided in the livestream lecture to 608-260-7097 for CME credit.
URL:https://www.pediatrics.wisc.edu/event/pediatric-grand-rounds-shanda-wells-phd-trauma-informed-care-pediatrics-behavioral-health-abp-moc-part-2/
LOCATION:Via Blackboard Connect
CATEGORIES:Grand Rounds
END:VEVENT
BEGIN:VEVENT
DTSTART;TZID=America/Chicago:20201112T073000
DTEND;TZID=America/Chicago:20201112T083000
DTSTAMP:20260419T171951
CREATED:20201001T170834Z
LAST-MODIFIED:20201103T163045Z
UID:15626-1605166200-1605169800@www.pediatrics.wisc.edu
SUMMARY:Pediatric Grand Rounds\, Jeannina Smith\, MD - "COVID-19 in Solid Organ Transplant Known Knowns\, and Known Unknowns\, Unknown Knowns"
DESCRIPTION:Jeannina Smith\, MD – Associate Professor\, Infectious Disease Faculty\, UW SMPH \n \n  \n  \n  \n  \n  \n  \n  \nThis lecture will be streamed live at https://go.wisc.edu/pedsgrandrounds  \nPlease text the 6-letter code provided in the livestream lecture to 608-260-7097 for CME credit.
URL:https://www.pediatrics.wisc.edu/event/pediatric-grand-rounds-jeannina-smith-md/
LOCATION:Via Blackboard Connect
CATEGORIES:Grand Rounds
END:VEVENT
BEGIN:VEVENT
DTSTART;TZID=America/Chicago:20201105T073000
DTEND;TZID=America/Chicago:20201105T083000
DTSTAMP:20260419T171951
CREATED:20201001T170626Z
LAST-MODIFIED:20201001T170626Z
UID:15618-1604561400-1604565000@www.pediatrics.wisc.edu
SUMMARY:Pediatric Grand Rounds - OBGYN Group\, "Physician Attitudes Toward Abortion\, Abortion Providers\, and Reproductive Justice at UW Health: Current State and Future Action"
DESCRIPTION:Laurel Rice\, MD – Chair\, Department of Obstetrics and Gynecology\, UW- SMPH \n \n  \n  \n  \n  \n  \nCynthie Wautlet\, MD – Associate Professor\, Director Resident Continuity Clinc\, Faculty\, Academic Specialists in Obstetrics and Gynecology\, Department of Obstetrics and Gynecology\, SMPH \n \n  \n  \n  \n  \n  \nJenny Higgins\, PhD\, MPH – Associate Professor\, Faculty\, Reproductive and Population Health \, Department of Obstetrics and Gynecology\, SMPH \n \n  \n  \n  \n  \n  \nNicholas Schmuhl\, PhD – Assistant Scientist\, Staff\, Reproductive and Population Health\, Department of Obstetrics and Gynecology\, SMPH \n \n  \n  \n  \n  \n  \nThis lecture will be streamed live at https://go.wisc.edu/pedsgrandrounds  \nPlease text the 6-letter code provided in the livestream lecture to 608-260-7097 for CME credit.
URL:https://www.pediatrics.wisc.edu/event/pediatric-grand-rounds-obgyn-group-physician-attitudes-toward-abortion-abortion-providers-and-reproductive-justice-at-uw-health-current-state-and-future-action/
LOCATION:Via Blackboard Connect
CATEGORIES:Grand Rounds
END:VEVENT
BEGIN:VEVENT
DTSTART;TZID=America/Chicago:20201029T073000
DTEND;TZID=America/Chicago:20201029T083000
DTSTAMP:20260419T171951
CREATED:20200812T185112Z
LAST-MODIFIED:20201001T140028Z
UID:14308-1603956600-1603960200@www.pediatrics.wisc.edu
SUMMARY:Pediatric Grand Rounds - Paul Hunter\, MD "Advisory Committee on Immunization Practices: Making Recommendations for Vaccinations in the United States – Dane County Immunization Coalition – ***ABP MOC Part 2"
DESCRIPTION:Paul Hunter\, MD– Associate Professor\, Department of Family Medicine and Community Health\, University of Wisconsin – School of Medicine and Public Health\, Voting Member through 12/31/20\, Advisory Committee on Immunization Practices (ACIP) \n \n  \n  \n  \n  \n  \n  \nThis lecture will be streamed live at https://go.wisc.edu/pedsgrandrounds  \nPlease text the 6-letter code provided in the livestream lecture to 608-260-7097 for CME credit.
URL:https://www.pediatrics.wisc.edu/event/pediatric-grand-rounds-paul-hunter-md/
LOCATION:Via Blackboard Connect
CATEGORIES:Grand Rounds
END:VEVENT
BEGIN:VEVENT
DTSTART;TZID=America/Chicago:20201022T073000
DTEND;TZID=America/Chicago:20201022T083000
DTSTAMP:20260419T171951
CREATED:20200728T142520Z
LAST-MODIFIED:20220414T213952Z
UID:13845-1603351800-1603355400@www.pediatrics.wisc.edu
SUMMARY:Pediatric Grand Rounds - Anthony Garcia-Prats\, MD\, MSC\, PhD "Tuberculosis – the other pandemic: ensuring children are not left behind in the global response to drug-resistant TB."
DESCRIPTION:Anthony Garcia-Prats\, MD\, MSC\, PhD – Associate Professor\, General Pediatrics and Adolescent Medicine\, Global Pediatrics\, UW-Madison SMPH \n \n  \n  \n  \n  \n  \n  \nThis lecture will be streamed live at https://go.wisc.edu/pedsgrandrounds  \nPlease text the 6-letter code provided in the livestream lecture to 608-260-7097 for CME credit.
URL:https://www.pediatrics.wisc.edu/event/pediatric-grand-rounds-anthony-garcia-prats-md-msc/
LOCATION:Via Blackboard Connect
CATEGORIES:Grand Rounds
END:VEVENT
BEGIN:VEVENT
DTSTART;TZID=America/Chicago:20201015T073000
DTEND;TZID=America/Chicago:20201015T083000
DTSTAMP:20260419T171951
CREATED:20200728T142356Z
LAST-MODIFIED:20201001T135919Z
UID:13842-1602747000-1602750600@www.pediatrics.wisc.edu
SUMMARY:Pediatric Grand Rounds - Kevin Fiori\, MD\, MPH\, MSc\, FAAP\, "A Tale of Two Regions: Adapting Community Health Worker Programs from Northern Togo to the South Bronx"
DESCRIPTION:Kevin Fiori\, MD\, MPH\, MSc\, FAAP – Assistant Professor of Pediatrics\, Assistant Professor of Family and Social Medicine\, Medical Director\, Community & Population Health-Montefiore Health System\, The Children’s Hospital at Montefiore – The Pediatric Hospital for Albert Einstein College of Medicine\, Division of Academic General Pediatrics\, Montefiore Medical Center\, The University Hospital for Albert Einstein College of Medicine\, Department of Family & Social Medicine \n \n  \n  \n  \n  \n  \n  \nThis lecture will be streamed live at https://go.wisc.edu/pedsgrandrounds  \nPlease text the 6-letter code provided in the livestream lecture to 608-260-7097 for CME credit.
URL:https://www.pediatrics.wisc.edu/event/pediatric-grand-rounds-kevin-fiori-md-mph-msc-faap/
LOCATION:Via Blackboard Connect
CATEGORIES:Grand Rounds
END:VEVENT
BEGIN:VEVENT
DTSTART;TZID=America/Chicago:20201008T073000
DTEND;TZID=America/Chicago:20201008T083000
DTSTAMP:20260419T171951
CREATED:20200730T115020Z
LAST-MODIFIED:20201001T135848Z
UID:13849-1602142200-1602145800@www.pediatrics.wisc.edu
SUMMARY:Pediatric Grand Rounds - Justin Baker\, MD - "Improving Patient Outcomes Through Integrated Pediatric Palliative Care" – *ABP MOC Part
DESCRIPTION:Justin Baker\, MD – Quality of Life and Palliative Care\, St. Jude Children’s Research Hospital\, Memphis\, Tennessee \n \n  \n  \n  \n  \n  \n  \nThis lecture will be streamed live at https://go.wisc.edu/pedsgrandrounds  \nPlease text the 6-letter code provided in the livestream lecture to 608-260-7097 for CME credit. You MUST complete the “Self-assessment” in order to receive ANY credit for this session as it is ABP MOC PART TWO credit. \n 
URL:https://www.pediatrics.wisc.edu/event/pediatric-grand-rounds-to-be-determined-2/
LOCATION:Via Blackboard Connect
CATEGORIES:Grand Rounds
END:VEVENT
BEGIN:VEVENT
DTSTART;TZID=America/Chicago:20201001T073000
DTEND;TZID=America/Chicago:20201001T083000
DTSTAMP:20260419T171951
CREATED:20200728T142150Z
LAST-MODIFIED:20201001T135936Z
UID:13839-1601537400-1601541000@www.pediatrics.wisc.edu
SUMMARY:Pediatric Grand Rounds - Beth Drolet\, MD "MyChart Medicine. Can You Make an Accurate Diagnosis From Mom’s Pictures?"
DESCRIPTION:Beth A. Drolet\, MD – Chair of The Department of Dermatology\, School of Medicine and Public Health\, University of Wisconsin-Madison \n \n  \n  \n  \n  \n  \n  \nThis lecture will be streamed live at https://go.wisc.edu/pedsgrandrounds  \nPlease text the 6-letter code provided in the livestream lecture to 608-260-7097 for CME credit.
URL:https://www.pediatrics.wisc.edu/event/pediatric-grand-rounds-beth-drolet-md/
LOCATION:Via Blackboard Connect
CATEGORIES:Grand Rounds
END:VEVENT
BEGIN:VEVENT
DTSTART;TZID=America/Chicago:20200924T073000
DTEND;TZID=America/Chicago:20200924T083000
DTSTAMP:20260419T171951
CREATED:20200707T151223Z
LAST-MODIFIED:20200812T184800Z
UID:13631-1600932600-1600936200@www.pediatrics.wisc.edu
SUMMARY:Pediatric Grand Rounds - Peter Morrison\, DO "Diagnosis and Treatment of Tourette Syndrome and Other Chronic Tic Disorders" – Speaker with Tourette Association of America
DESCRIPTION:Peter Morrison\, DO – Assistant Professor\, Department of Neurology\, Movement Disorders (SMD)\, University of Rochester Medical Center \n \nThis lecture will be streamed live at https://go.wisc.edu/pedsgrandrounds  \nPlease text the 6-letter code provided in the livestream lecture to 608-260-7097 for CME credit.
URL:https://www.pediatrics.wisc.edu/event/pediatric-grand-rounds-peter-morrison-do-diagnosis-and-treatment-of-tourette-syndrome-and-other-chronic-tic-disorders-speaker-with-tourette-association-of-america/
LOCATION:Via Blackboard Connect
CATEGORIES:Grand Rounds
END:VEVENT
BEGIN:VEVENT
DTSTART;TZID=America/Chicago:20200917T073000
DTEND;TZID=America/Chicago:20200917T083000
DTSTAMP:20260419T171951
CREATED:20200707T150959Z
LAST-MODIFIED:20200908T174912Z
UID:13628-1600327800-1600331400@www.pediatrics.wisc.edu
SUMMARY:Pediatric Grand Rounds - Megan L. Ranney\, MD\, MPH\, FACEP\, "The Public Health Approach to Firearm Injury: Why #ThisIsOurLane" – ABP MOC Part 2 *ABP MOC Part 2 Credit
DESCRIPTION:Megan L. Ranney\, MD\, MPH\, FACEP – Director\, Emergency Digital Health Innovation and Special Projects\, Associate Professor\, Dept of Emergency Medicine / Dept of Health Services\, Policy and Practice\, Brown University / Injury Prevention Center of Rhode Island Hospital \n \nThis lecture will be streamed live at https://go.wisc.edu/pedsgrandrounds  \nPlease text the 6-letter code provided in the livestream lecture to 608-260-7097 for CME credit. \nYou MUST complete the “Self-assessment” in order to receive ANY credit for this session as it is ABP MOC PART TWO credit. \n 
URL:https://www.pediatrics.wisc.edu/event/pediatric-grand-rounds-megan-l-ranney-md-mph-facep-abp-moc-part-2-credit/
LOCATION:Via Blackboard Connect
CATEGORIES:Grand Rounds
END:VEVENT
BEGIN:VEVENT
DTSTART;TZID=America/Chicago:20200910T073000
DTEND;TZID=America/Chicago:20200910T083000
DTSTAMP:20260419T171951
CREATED:20200707T150740Z
LAST-MODIFIED:20200908T174944Z
UID:13625-1599723000-1599726600@www.pediatrics.wisc.edu
SUMMARY:Pediatric Grand Rounds - Peter L. Havens\, MD\, MS\, "Hepatitis C Virus Infection in Women and Children in Wisconsin"
DESCRIPTION:Peter L. Havens\, MD\, MS; Professor of Pediatrics (Infectious Diseases); Medical College of Wisconsin; Children’s Hospital of Wisconsin Corporate Center \n \nThis lecture will be streamed live at https://go.wisc.edu/pedsgrandrounds  \nPlease text the 6-letter code provided in the livestream lecture to 608-260-7097 for CME credit.
URL:https://www.pediatrics.wisc.edu/event/pediatric-grand-rounds-peter-l-havens-md-ms/
LOCATION:Via Blackboard Connect
CATEGORIES:Grand Rounds
END:VEVENT
BEGIN:VEVENT
DTSTART;TZID=America/Chicago:20200903T073000
DTEND;TZID=America/Chicago:20200903T083000
DTSTAMP:20260419T171951
CREATED:20200728T142754Z
LAST-MODIFIED:20200728T142754Z
UID:13847-1599118200-1599121800@www.pediatrics.wisc.edu
SUMMARY:Pediatric Grand Rounds - None! (Faculty Meeting)
DESCRIPTION:
URL:https://www.pediatrics.wisc.edu/event/pediatric-grand-rounds-none-faculty-meeting/
END:VEVENT
BEGIN:VEVENT
DTSTART;TZID=America/Chicago:20200827T073000
DTEND;TZID=America/Chicago:20200827T080000
DTSTAMP:20260419T171951
CREATED:20200609T165444Z
LAST-MODIFIED:20200817T135710Z
UID:12988-1598513400-1598515200@www.pediatrics.wisc.edu
SUMMARY:Pediatric Grand Rounds - Cindy W. Christian\, MD\, Protecting Children in the age of "alternative facts":  Lessons from the front line
DESCRIPTION:Cindy W. Christian\, MD – Anthony A. Latini Endowed Chair in Child Abuse and Neglect Prevention\, The Children’s Hospital of Philadelphia\, Assistant Dean for Community Engagement\, PDI\, The Perelman School of Medicine\, The University of Pennsylvania \n \nThis lecture will be streamed live at https://go.wisc.edu/pedsgrandrounds  \nPlease text the 6-letter code provided in the livestream lecture to 608-260-7097 for CME credit.
URL:https://www.pediatrics.wisc.edu/event/pediatric-grand-rounds-to-be-determined/
LOCATION:Via Blackboard Connect
CATEGORIES:Grand Rounds
END:VEVENT
BEGIN:VEVENT
DTSTART;TZID=America/Chicago:20200820T073000
DTEND;TZID=America/Chicago:20200820T083000
DTSTAMP:20260419T171951
CREATED:20200609T165354Z
LAST-MODIFIED:20200812T184555Z
UID:12985-1597908600-1597912200@www.pediatrics.wisc.edu
SUMMARY:Pediatric Grand Rounds - Nelsie Stern\, LPC "Cognitive Behavioral Intervention for Trauma in Schools (CBITS)"
DESCRIPTION:Nelsie Stern\, LPC – CBITS & MHFA Program Manager\, Child and Family Therapist\, Journey Mental Health Center \n \nThis lecture will be streamed live at https://go.wisc.edu/pedsgrandrounds  \nPlease text the 6-letter code provided in the livestream lecture to 608-260-7097 for CME credit.
URL:https://www.pediatrics.wisc.edu/event/pediatric-grand-rounds-nelsie-stern-lpc-cognitive-behavioral-intervention-for-trauma-in-schools-cbits/
LOCATION:Via Blackboard Connect
CATEGORIES:Grand Rounds
END:VEVENT
BEGIN:VEVENT
DTSTART;TZID=America/Chicago:20200813T073000
DTEND;TZID=America/Chicago:20200813T083000
DTSTAMP:20260419T171951
CREATED:20200609T164911Z
LAST-MODIFIED:20200707T145859Z
UID:12983-1597303800-1597307400@www.pediatrics.wisc.edu
SUMMARY:Pediatric Grand Rounds - Satyan Lakshminrusimha MD\, "Why do Pediatricians love Oxygen?"
DESCRIPTION:Satyan Lakshminrusimha MD- Professor and Dennis and Nancy Marks Chair\, Department of Pediatrics\, Pediatrician -In-Chief\, UC Davis Children’s Hospital\, UC Davis Health \n \nThis lecture will be streamed live at https://go.wisc.edu/pedsgrandrounds \nPlease text the 6-letter code provided in the livestream lecture to 608-260-7097 for CME credit.
URL:https://www.pediatrics.wisc.edu/event/no-pediatric-grand-rounds-3/
LOCATION:Via Blackboard Connect
CATEGORIES:Grand Rounds
END:VEVENT
END:VCALENDAR