BEGIN:VCALENDAR
VERSION:2.0
PRODID:-//Department of Pediatrics - ECPv6.15.11//NONSGML v1.0//EN
CALSCALE:GREGORIAN
METHOD:PUBLISH
X-WR-CALNAME:Department of Pediatrics
X-ORIGINAL-URL:https://www.pediatrics.wisc.edu
X-WR-CALDESC:Events for Department of Pediatrics
REFRESH-INTERVAL;VALUE=DURATION:PT1H
X-Robots-Tag:noindex
X-PUBLISHED-TTL:PT1H
BEGIN:VTIMEZONE
TZID:America/Chicago
BEGIN:DAYLIGHT
TZOFFSETFROM:-0600
TZOFFSETTO:-0500
TZNAME:CDT
DTSTART:20240310T080000
END:DAYLIGHT
BEGIN:STANDARD
TZOFFSETFROM:-0500
TZOFFSETTO:-0600
TZNAME:CST
DTSTART:20241103T070000
END:STANDARD
BEGIN:DAYLIGHT
TZOFFSETFROM:-0600
TZOFFSETTO:-0500
TZNAME:CDT
DTSTART:20250309T080000
END:DAYLIGHT
BEGIN:STANDARD
TZOFFSETFROM:-0500
TZOFFSETTO:-0600
TZNAME:CST
DTSTART:20251102T070000
END:STANDARD
BEGIN:DAYLIGHT
TZOFFSETFROM:-0600
TZOFFSETTO:-0500
TZNAME:CDT
DTSTART:20260308T080000
END:DAYLIGHT
BEGIN:STANDARD
TZOFFSETFROM:-0500
TZOFFSETTO:-0600
TZNAME:CST
DTSTART:20261101T070000
END:STANDARD
END:VTIMEZONE
BEGIN:VEVENT
DTSTART;TZID=America/Chicago:20250925T073000
DTEND;TZID=America/Chicago:20250925T083000
DTSTAMP:20260419T173859
CREATED:20250214T203434Z
LAST-MODIFIED:20250811T130230Z
UID:34814-1758785400-1758789000@www.pediatrics.wisc.edu
SUMMARY:Pediatrics Grand Rounds- Geoffrey Kurland\, MD
DESCRIPTION:Date: Thursday\, September 25\, 2025 \nTime: 7:30-8:30 a.m. CST via Zoom \nZoom Link \nTitle: My Own Medicine: Lessons Learned en Route to Remission \nSession Overview: In 1987 Dr. Kurland\, then on the Pediatric faculty at UC Davis\, was diagnosed with a rare form of cancer just before his 41st birthday.  He then underwent prolonged treatment involving multiple surgeries and an experimental chemotherapy regimen with complications.  He learned lessons about medicine and its limitations\,  Important insights coloring interactions between physicians and patients\, and his personal combination of inner strengths and weaknesses.  These lessons are universal and can teach each of us about dealing with our own patients\, the uncertainties of our profession\, and the need to keep our focus on the work that matters to our patients as well as ourselves. \nSpeaker: Geoffrey Kurland\, MD\, professor of Pediatrics\, director Pediatric Lung Transplant Program\, UPMC Children’s Hospital of Pittsburgh \n \nPlease text the 6-letter code provided in the livestream lecture to 608-260-7097 for CME credit. \n\nSeries Overview: Pediatric Grand Rounds is a weekly multidisciplinary and interprofessional conference designed to improve a participant’s ability to practice pediatric medicine\, including patient care\, conducting healthcare research\, providing medical education\, addressing public health\, and implementing innovation. \nTarget Audience: MD/DO\, RN\, APRN\, Residents\, Fellows\, and other Trainees. \nGlobal Learning Objectives: \n\n\n\nIdentify state of the art\, evidence-based practices for prevention\, diagnosis and treatment in pediatric medicine\nAnalyze issues of diversity\, equity\, inclusion\, and justice relevant to pediatric care\nCollaborate and communicate effectively with other health care professionals\, community members and families to advocate for the health care needs of children\nDescribe new scientific advances and trends in pediatric medicine that may be translatable and impact future patient care\nIdentify roles and responsibilities as part of a healthcare team that functions in value-driven\, ethical environments\n\n\nAccreditation Statement – Log into your ICEP account to view sessions\, check your credits and more! \n\n\n\n\nIn support of improving patient care\, the University of Wisconsin–Madison ICEP is jointly accredited by the Accreditation Council for Continuing Medical Education (ACCME)\, the Accreditation Council for Pharmacy Education (ACPE)\, and the American Nurses Credentialing Center (ANCC) to provide continuing education for the healthcare team.\n\n\n\nCredit Designation Statements \nAmerican Medical Association (AMA) \nThe University of Wisconsin–Madison ICEP designates this live activity for a maximum of 1 AMA PRA Category 1 Credit™.  Physicians should claim only the credit commensurate with the extent of their participation in the activity. \nAmerican Nurses Credentialing Center (ANCC) \nThe University of Wisconsin–Madison ICEP designates this live activity for a maximum of 1 ANCC contact hour. \nAmerican Board of Pediatrics (ABP) (for select sessions only — see individual session details) \nSuccessful completion of this CME activity\, which includes participation in the activity and individual assessment of and feedback to the learner\, enables the learner to earn up to 1 MOC points in the American Board of American Board of Pediatrics’ (ABP) Maintenance of Certification (MOC) program. It is the CME activity provider’s responsibility to submit learner completion information to ACCME for the purpose of granting ABP MOC credit. \nParticipant completion information will be shared with the ABP through PARS. By recording your attendance at this event\, you are giving UW-ICEP permission to share this information with ABP. \nContinuing Education Units \nThe University of Wisconsin–Madison ICEP\, as a member of the University Professional & Continuing Education Association (UPCEA)\, authorizes this program for 0.1 continuing education units (CEUs) or 1 hour.
URL:https://www.pediatrics.wisc.edu/event/pediatrics-grand-rounds-geoffrey-kurland-md/
LOCATION:Via Zoom
CATEGORIES:Grand Rounds
END:VEVENT
BEGIN:VEVENT
DTSTART;TZID=America/Chicago:20250925T120000
DTEND;TZID=America/Chicago:20250925T130000
DTSTAMP:20260419T173859
CREATED:20240906T165331Z
LAST-MODIFIED:20250804T195819Z
UID:32249-1758801600-1758805200@www.pediatrics.wisc.edu
SUMMARY:Family Led Academic Grand Rounds (FLAG)- Lora Batson & Anastacia Newton
DESCRIPTION:Date: Thursday\, September 25\, 2025 \nTime: 12:00-1:00 p.m. CST  via Zoom \nZoom Link \nTitle: Walking the Line: Giving Care/Forgone Care (and everything in between) \nSession Overview: Join us as Family Faculty share powerful stories of caring for children with disabilities—highlighting the delicate balance ( or ‘walking the line’) between providing care and the risk of care being forgone. Our Family Faculty will offer thoughtful strategies to facilitate accessibility and deliver compassionate\, whole-child care. \nSpeakers:  \nLora Batson\, MPAS\, PA-C\, MPH \n \nAnastacia Newton\, MA \n \n  \nPlease text the 6-letter code provided in the livestream lecture to 608-260-7097 for CME credit. \nSeries Overview: The University of Wisconsin-Madison will partner with the Bluebird Way Foundation to host and produce 5 virtual Family-Led Academic Grand “FLAG” Rounds focused on Ableism in Pediatrics. These national\, quarterly educational sessions will be led and presented by families. FLAG Rounds flips the traditional model and embraces family as educators. Families will present an aspect of their “case” as a story and then offer strategies to develop knowledge\, skills and abilities to perform\, or partner in\, the essential activities of care of children with disabilities and/or medical complexity. \nTarget Audience: MD/DOs\, Nurses\, APRNs\, PAs\, Trainees including Residents\, Fellows\, Medical Students. Patients\, Caregivers\, and Community Members. \nGlobal Learning Objectives: \nAs a result of participation in this educational series\, members of the healthcare team will improve ability to: \n\nIdentify individual perceptions and biases that may inhibit the care of CYSHCN or meaningful partnership in care with children and families.\nExamine the roles of stories in communication\, relationships\, and interactions in the delivery of holistic collaborative pediatric care.\nIdentify the value of those with lived experience as teachers of medical education.\nAnalyze issues of diversity\, equity\, inclusion\, and justice relevant to pediatric care.\n\n  \nAccreditation- Log into your ICEP account to view sessions\, check your credits and more!\nAccreditation Statement \n\n\n\n\nIn support of improving patient care\, the University of Wisconsin–Madison ICEP is jointly accredited by the Accreditation Council for Continuing Medical Education (ACCME)\, the Accreditation Council for Pharmacy Education (ACPE)\, and the American Nurses Credentialing Center (ANCC) to provide continuing education for the healthcare team.\n\n\n\nCredit Designation Statements\n\n\n\nAmerican Medical Association (AMA)\n\n\nThe University of Wisconsin–Madison ICEP designates this live activity for a maximum of 1 AMA PRA Category 1 Credits™.  Physicians should claim only the credit commensurate with the extent of their participation in the activity.\n\n\nAmerican Nurses Credentialing Center (ANCC)\n\n\nThe University of Wisconsin–Madison ICEP designates this live activity for a maximum of 1 ANCC contact hours.\n\n\nASWB Approved Continuing Education (ACE)\n\n\n \nAs a Jointly Accredited Organization\, the University of Wisconsin–Madison ICEP is approved to offer social work continuing education by the Association of Social Work Boards (ASWB) Approved Continuing Education (ACE) program.  Organizations\, not individual courses\, are approved under this program. Regulatory boards are the final authority on courses accepted for continuing education credit. Social workers completing this course receive 1 general continuing education credits.\n\n\nContinuing Education Units\n\n\nThe University of Wisconsin–Madison ICEP\, as a member of the University Professional & Continuing Education Association (UPCEA)\, authorizes this program for 0.1 continuing education units (CEUs) or 1 hours.
URL:https://www.pediatrics.wisc.edu/event/family-led-academic-grand-rounds-2/
LOCATION:Via Zoom
CATEGORIES:Grand Rounds,Pediatrics,Professional Development
END:VEVENT
END:VCALENDAR